Package: methylMnM Version: 1.42.0 Command: /Library/Frameworks/R.framework/Resources/bin/R CMD build --keep-empty-dirs --no-resave-data methylMnM StartedAt: 2024-10-17 04:17:01 -0400 (Thu, 17 Oct 2024) EndedAt: 2024-10-17 04:18:40 -0400 (Thu, 17 Oct 2024) EllapsedTime: 98.8 seconds RetCode: 0 Status: OK PackageFile: methylMnM_1.42.0.tar.gz PackageFileSize: 8.51 MiB