Package: methylKit Version: 1.30.0 Command: chmod a+r methylKit -R && F:\biocbuild\bbs-3.19-bioc\R\bin\R.exe CMD build --keep-empty-dirs --no-resave-data methylKit StartedAt: 2024-06-26 19:59:29 -0400 (Wed, 26 Jun 2024) EndedAt: 2024-06-26 20:01:46 -0400 (Wed, 26 Jun 2024) EllapsedTime: 137.1 seconds RetCode: 0 Status: OK PackageFile: methylKit_1.30.0.tar.gz PackageFileSize: 1.13 MiB