Package: methylKit Version: 1.30.0 Command: rm -rf methylKit.buildbin-libdir && mkdir methylKit.buildbin-libdir && F:\biocbuild\bbs-3.19-bioc\R\bin\R.exe CMD INSTALL --build --library=methylKit.buildbin-libdir methylKit_1.30.0.tar.gz StartedAt: 2024-06-27 08:29:24 -0400 (Thu, 27 Jun 2024) EndedAt: 2024-06-27 08:31:15 -0400 (Thu, 27 Jun 2024) EllapsedTime: 111.1 seconds RetCode: 0 Status: OK PackageFile: methylKit_1.30.0.zip PackageFileSize: 6.899 MiB