Package: methylKit Version: 1.30.0 Command: rm -rf methylKit.buildbin-libdir && mkdir methylKit.buildbin-libdir && /Users/biocbuild/BBS/utils/build-universal.sh methylKit_1.30.0.tar.gz /Library/Frameworks/R.framework/Resources/bin/R methylKit.buildbin-libdir StartedAt: 2024-10-18 19:23:11 -0400 (Fri, 18 Oct 2024) EndedAt: 2024-10-18 19:24:31 -0400 (Fri, 18 Oct 2024) EllapsedTime: 80.5 seconds RetCode: 0 Status: OK PackageFile: methylKit_1.30.0.tgz PackageFileSize: 2.87 MiB