Package: methylInheritance Version: 1.28.0 Command: rm -rf methylInheritance.buildbin-libdir && mkdir methylInheritance.buildbin-libdir && E:\biocbuild\bbs-3.19-bioc\R\bin\R.exe CMD INSTALL --build --library=methylInheritance.buildbin-libdir methylInheritance_1.28.0.tar.gz StartedAt: 2024-10-17 08:07:13 -0400 (Thu, 17 Oct 2024) EndedAt: 2024-10-17 08:08:16 -0400 (Thu, 17 Oct 2024) EllapsedTime: 62.6 seconds RetCode: 0 Status: OK PackageFile: methylInheritance_1.28.0.zip PackageFileSize: 1.801 MiB