Package: methylInheritance Version: 1.28.0 Command: chmod a+r methylInheritance -R && F:\biocbuild\bbs-3.19-bioc\R\bin\R.exe CMD build --keep-empty-dirs --no-resave-data methylInheritance StartedAt: 2024-06-26 19:59:23 -0400 (Wed, 26 Jun 2024) EndedAt: 2024-06-26 20:01:07 -0400 (Wed, 26 Jun 2024) EllapsedTime: 104.3 seconds RetCode: 0 Status: OK PackageFile: methylInheritance_1.28.0.tar.gz PackageFileSize: 1.671 MiB