Package: methylInheritance Version: 1.28.0 Command: /Library/Frameworks/R.framework/Resources/bin/R CMD check --install=check:methylInheritance.install-out.txt --library=/Library/Frameworks/R.framework/Resources/library --no-vignettes --timings methylInheritance_1.28.0.tar.gz StartedAt: 2024-10-17 08:18:33 -0400 (Thu, 17 Oct 2024) EndedAt: 2024-10-17 08:42:17 -0400 (Thu, 17 Oct 2024) EllapsedTime: 1424.1 seconds RetCode: 0 Status: OK CheckDir: methylInheritance.Rcheck Warnings: 0