Package: methylInheritance Version: 1.28.0 Command: /home/biocbuild/R/R-beta-2024-04-15_r86425/bin/R CMD build --keep-empty-dirs --no-resave-data methylInheritance StartedAt: 2024-05-09 01:33:03 -0000 (Thu, 09 May 2024) EndedAt: 2024-05-09 01:34:51 -0000 (Thu, 09 May 2024) EllapsedTime: 108.1 seconds RetCode: 0 Status: OK PackageFile: methylInheritance_1.28.0.tar.gz PackageFileSize: 1.698 MiB