Package: methylInheritance Version: 1.28.0 Command: /Library/Frameworks/R.framework/Resources/bin/R CMD build --keep-empty-dirs --no-resave-data methylInheritance StartedAt: 2024-06-10 00:20:14 -0400 (Mon, 10 Jun 2024) EndedAt: 2024-06-10 00:23:20 -0400 (Mon, 10 Jun 2024) EllapsedTime: 186.2 seconds RetCode: 0 Status: OK PackageFile: methylInheritance_1.28.0.tar.gz PackageFileSize: 1.708 MiB