Package: methylInheritance Version: 1.28.0 Command: /Library/Frameworks/R.framework/Resources/bin/R CMD INSTALL methylInheritance StartedAt: 2024-10-16 16:32:41 -0400 (Wed, 16 Oct 2024) EndedAt: 2024-10-16 16:33:26 -0400 (Wed, 16 Oct 2024) EllapsedTime: 44.9 seconds RetCode: 0 Status: OK