Package: methylInheritance Version: 1.28.0 Command: /Library/Frameworks/R.framework/Resources/bin/R CMD build --keep-empty-dirs --no-resave-data methylInheritance StartedAt: 2024-10-17 04:15:43 -0400 (Thu, 17 Oct 2024) EndedAt: 2024-10-17 04:17:16 -0400 (Thu, 17 Oct 2024) EllapsedTime: 93.3 seconds RetCode: 0 Status: OK PackageFile: methylInheritance_1.28.0.tar.gz PackageFileSize: 1.708 MiB