Package: methylGSA Version: 1.22.0 Command: F:\biocbuild\bbs-3.19-bioc\R\bin\R.exe CMD INSTALL methylGSA StartedAt: 2024-06-26 16:56:43 -0400 (Wed, 26 Jun 2024) EndedAt: 2024-06-26 16:57:27 -0400 (Wed, 26 Jun 2024) EllapsedTime: 44.8 seconds RetCode: 0 Status: OK