Package: methylGSA Version: 1.22.0 Command: F:\biocbuild\bbs-3.19-bioc\R\bin\R.exe CMD check --no-multiarch --install=check:methylGSA.install-out.txt --library=F:\biocbuild\bbs-3.19-bioc\R\library --no-vignettes --timings methylGSA_1.22.0.tar.gz StartedAt: 2024-06-27 03:30:09 -0400 (Thu, 27 Jun 2024) EndedAt: 2024-06-27 03:37:39 -0400 (Thu, 27 Jun 2024) EllapsedTime: 450.1 seconds RetCode: 0 Status: OK CheckDir: methylGSA.Rcheck Warnings: 0