Package: methylGSA Version: 1.22.0 Command: chmod a+r methylGSA -R && F:\biocbuild\bbs-3.19-bioc\R\bin\R.exe CMD build --keep-empty-dirs --no-resave-data methylGSA StartedAt: 2024-06-26 19:58:47 -0400 (Wed, 26 Jun 2024) EndedAt: 2024-06-26 20:00:48 -0400 (Wed, 26 Jun 2024) EllapsedTime: 121.6 seconds RetCode: 0 Status: OK PackageFile: methylGSA_1.22.0.tar.gz PackageFileSize: 3.113 MiB