Package: methylGSA Version: 1.22.0 Command: rm -rf methylGSA.buildbin-libdir && mkdir methylGSA.buildbin-libdir && F:\biocbuild\bbs-3.19-bioc\R\bin\R.exe CMD INSTALL --build --library=methylGSA.buildbin-libdir methylGSA_1.22.0.tar.gz StartedAt: 2024-06-27 08:29:19 -0400 (Thu, 27 Jun 2024) EndedAt: 2024-06-27 08:30:31 -0400 (Thu, 27 Jun 2024) EllapsedTime: 72.3 seconds RetCode: 0 Status: OK PackageFile: methylGSA_1.22.0.zip PackageFileSize: 3.167 MiB