Package: methylGSA Version: 1.22.0 Command: /home/biocbuild/bbs-3.19-bioc/R/bin/R CMD INSTALL methylGSA StartedAt: 2024-10-16 16:49:23 -0400 (Wed, 16 Oct 2024) EndedAt: 2024-10-16 16:50:10 -0400 (Wed, 16 Oct 2024) EllapsedTime: 46.8 seconds RetCode: 0 Status: OK