Package: methylGSA Version: 1.22.0 Command: /Library/Frameworks/R.framework/Resources/bin/R CMD INSTALL methylGSA StartedAt: 2024-10-16 16:55:09 -0400 (Wed, 16 Oct 2024) EndedAt: 2024-10-16 16:56:04 -0400 (Wed, 16 Oct 2024) EllapsedTime: 55.7 seconds RetCode: 0 Status: OK