Package: methylGSA Version: 1.22.0 Command: /Library/Frameworks/R.framework/Resources/bin/R CMD build --keep-empty-dirs --no-resave-data methylGSA StartedAt: 2024-10-16 20:45:21 -0400 (Wed, 16 Oct 2024) EndedAt: 2024-10-16 20:50:05 -0400 (Wed, 16 Oct 2024) EllapsedTime: 283.7 seconds RetCode: 0 Status: OK PackageFile: methylGSA_1.22.0.tar.gz PackageFileSize: 3.151 MiB