Package: methylGSA Version: 1.22.0 Command: /home/biocbuild/R/R-beta-2024-04-15_r86425/bin/R CMD check --install=check:methylGSA.install-out.txt --library=/home/biocbuild/R/R-beta-2024-04-15_r86425/site-library --no-vignettes --timings methylGSA_1.22.0.tar.gz StartedAt: 2024-05-09 09:16:27 -0000 (Thu, 09 May 2024) EndedAt: 2024-05-09 09:24:35 -0000 (Thu, 09 May 2024) EllapsedTime: 487.8 seconds RetCode: 0 Status: OK CheckDir: methylGSA.Rcheck Warnings: 0