Package: methylGSA Version: 1.22.0 Command: /Library/Frameworks/R.framework/Resources/bin/R CMD build --keep-empty-dirs --no-resave-data methylGSA StartedAt: 2024-10-17 04:14:31 -0400 (Thu, 17 Oct 2024) EndedAt: 2024-10-17 04:16:50 -0400 (Thu, 17 Oct 2024) EllapsedTime: 138.3 seconds RetCode: 0 Status: OK PackageFile: methylGSA_1.22.0.tar.gz PackageFileSize: 3.151 MiB