Package: methylGSA Version: 1.22.0 Command: rm -rf methylGSA.buildbin-libdir && mkdir methylGSA.buildbin-libdir && /Users/biocbuild/BBS/utils/build-universal.sh methylGSA_1.22.0.tar.gz /Library/Frameworks/R.framework/Resources/bin/R methylGSA.buildbin-libdir StartedAt: 2024-10-18 19:22:39 -0400 (Fri, 18 Oct 2024) EndedAt: 2024-10-18 19:23:49 -0400 (Fri, 18 Oct 2024) EllapsedTime: 69.7 seconds RetCode: 0 Status: OK PackageFile: methylGSA_1.22.0.tgz PackageFileSize: 3.198 MiB