Package: methylCC Version: 1.18.0 Command: /Library/Frameworks/R.framework/Resources/bin/R CMD INSTALL methylCC StartedAt: 2024-10-16 16:44:29 -0400 (Wed, 16 Oct 2024) EndedAt: 2024-10-16 16:46:24 -0400 (Wed, 16 Oct 2024) EllapsedTime: 115.3 seconds RetCode: 0 Status: OK