Package: methyLImp2 Version: 1.0.0 Command: E:\biocbuild\bbs-3.19-bioc\R\bin\R.exe CMD INSTALL methyLImp2 StartedAt: 2024-10-16 16:19:41 -0400 (Wed, 16 Oct 2024) EndedAt: 2024-10-16 16:20:05 -0400 (Wed, 16 Oct 2024) EllapsedTime: 24.4 seconds RetCode: 0 Status: OK