Package: methyLImp2 Version: 1.0.0 Command: chmod a+r methyLImp2 -R && E:\biocbuild\bbs-3.19-bioc\R\bin\R.exe CMD build --keep-empty-dirs --no-resave-data methyLImp2 StartedAt: 2024-10-16 20:13:58 -0400 (Wed, 16 Oct 2024) EndedAt: 2024-10-16 20:15:02 -0400 (Wed, 16 Oct 2024) EllapsedTime: 63.5 seconds RetCode: 0 Status: OK PackageFile: methyLImp2_1.0.0.tar.gz PackageFileSize: 1.26 MiB