Package: methyLImp2 Version: 1.0.0 Command: F:\biocbuild\bbs-3.19-bioc\R\bin\R.exe CMD INSTALL methyLImp2 StartedAt: 2024-06-26 15:57:51 -0400 (Wed, 26 Jun 2024) EndedAt: 2024-06-26 15:58:21 -0400 (Wed, 26 Jun 2024) EllapsedTime: 30.0 seconds RetCode: 0 Status: OK