Package: methyLImp2 Version: 1.0.0 Command: /Library/Frameworks/R.framework/Resources/bin/R CMD build --keep-empty-dirs --no-resave-data methyLImp2 StartedAt: 2024-10-16 20:45:42 -0400 (Wed, 16 Oct 2024) EndedAt: 2024-10-16 20:47:36 -0400 (Wed, 16 Oct 2024) EllapsedTime: 114.6 seconds RetCode: 0 Status: OK PackageFile: methyLImp2_1.0.0.tar.gz PackageFileSize: 1.26 MiB