Package: methyLImp2 Version: 1.0.0 Command: /Library/Frameworks/R.framework/Resources/bin/R CMD build --keep-empty-dirs --no-resave-data methyLImp2 StartedAt: 2024-06-10 00:18:53 -0400 (Mon, 10 Jun 2024) EndedAt: 2024-06-10 00:20:57 -0400 (Mon, 10 Jun 2024) EllapsedTime: 124.3 seconds RetCode: 0 Status: OK PackageFile: methyLImp2_1.0.0.tar.gz PackageFileSize: 1.26 MiB