Package: methyLImp2 Version: 1.0.0 Command: rm -rf methyLImp2.buildbin-libdir && mkdir methyLImp2.buildbin-libdir && /Users/biocbuild/BBS/utils/build-universal.sh methyLImp2_1.0.0.tar.gz /Library/Frameworks/R.framework/Resources/bin/R methyLImp2.buildbin-libdir StartedAt: 2024-06-11 11:59:55 -0400 (Tue, 11 Jun 2024) EndedAt: 2024-06-11 12:00:36 -0400 (Tue, 11 Jun 2024) EllapsedTime: 41.0 seconds RetCode: 0 Status: OK PackageFile: methyLImp2_1.0.0.tgz PackageFileSize: 1.292 MiB