Package: methyLImp2 Version: 1.0.0 Command: /Library/Frameworks/R.framework/Resources/bin/R CMD INSTALL methyLImp2 StartedAt: 2024-10-16 16:22:54 -0400 (Wed, 16 Oct 2024) EndedAt: 2024-10-16 16:23:17 -0400 (Wed, 16 Oct 2024) EllapsedTime: 23.1 seconds RetCode: 0 Status: OK