Package: methyLImp2 Version: 1.0.0 Command: /Library/Frameworks/R.framework/Resources/bin/R CMD build --keep-empty-dirs --no-resave-data methyLImp2 StartedAt: 2024-10-17 04:14:45 -0400 (Thu, 17 Oct 2024) EndedAt: 2024-10-17 04:15:52 -0400 (Thu, 17 Oct 2024) EllapsedTime: 67.2 seconds RetCode: 0 Status: OK PackageFile: methyLImp2_1.0.0.tar.gz PackageFileSize: 1.26 MiB