Package: methrix Version: 1.18.0 Command: /home/biocbuild/bbs-3.19-bioc/R/bin/R CMD check --install=check:methrix.install-out.txt --library=/home/biocbuild/bbs-3.19-bioc/R/site-library --timings methrix_1.18.0.tar.gz StartedAt: 2024-10-17 02:15:03 -0400 (Thu, 17 Oct 2024) EndedAt: 2024-10-17 02:23:32 -0400 (Thu, 17 Oct 2024) EllapsedTime: 509.0 seconds RetCode: 0 Status: OK CheckDir: methrix.Rcheck Warnings: 0