Package: methrix Version: 1.18.0 Command: /Library/Frameworks/R.framework/Resources/bin/R CMD INSTALL methrix StartedAt: 2024-10-16 15:38:53 -0400 (Wed, 16 Oct 2024) EndedAt: 2024-10-16 15:40:27 -0400 (Wed, 16 Oct 2024) EllapsedTime: 93.8 seconds RetCode: 0 Status: OK