Package: methrix Version: 1.18.0 Command: /Library/Frameworks/R.framework/Resources/bin/R CMD check --install=check:methrix.install-out.txt --library=/Library/Frameworks/R.framework/Resources/library --no-vignettes --timings methrix_1.18.0.tar.gz StartedAt: 2024-06-09 21:25:27 -0400 (Sun, 09 Jun 2024) EndedAt: 2024-06-09 21:31:13 -0400 (Sun, 09 Jun 2024) EllapsedTime: 345.7 seconds RetCode: 0 Status: OK CheckDir: methrix.Rcheck Warnings: 0