Package: methrix Version: 1.18.0 Command: /home/biocbuild/R/R-beta-2024-04-15_r86425/bin/R CMD build --keep-empty-dirs --no-resave-data methrix StartedAt: 2024-05-09 01:31:15 -0000 (Thu, 09 May 2024) EndedAt: 2024-05-09 01:36:05 -0000 (Thu, 09 May 2024) EllapsedTime: 290.4 seconds RetCode: 0 Status: OK PackageFile: methrix_1.18.0.tar.gz PackageFileSize: 3.903 MiB