Package: methrix Version: 1.18.0 Command: /Library/Frameworks/R.framework/Resources/bin/R CMD INSTALL methrix StartedAt: 2024-10-16 16:37:12 -0400 (Wed, 16 Oct 2024) EndedAt: 2024-10-16 16:38:00 -0400 (Wed, 16 Oct 2024) EllapsedTime: 47.4 seconds RetCode: 0 Status: OK