Package: methodical Version: 1.0.0 Command: chmod a+r methodical -R && E:\biocbuild\bbs-3.19-bioc\R\bin\R.exe CMD build --keep-empty-dirs --no-resave-data methodical StartedAt: 2024-10-16 20:12:03 -0400 (Wed, 16 Oct 2024) EndedAt: 2024-10-16 20:14:10 -0400 (Wed, 16 Oct 2024) EllapsedTime: 127.2 seconds RetCode: 1 Status: ERROR PackageFile: None PackageFileSize: NA