Package: methodical Version: 1.0.0 Command: /home/biocbuild/bbs-3.19-bioc/R/bin/R CMD build --keep-empty-dirs --no-resave-data methodical StartedAt: 2024-10-16 19:22:48 -0400 (Wed, 16 Oct 2024) EndedAt: 2024-10-16 19:36:03 -0400 (Wed, 16 Oct 2024) EllapsedTime: 795.4 seconds RetCode: 0 Status: OK PackageFile: methodical_1.0.0.tar.gz PackageFileSize: 4.583 MiB