Package: methodical Version: 1.0.0 Command: /Library/Frameworks/R.framework/Resources/bin/R CMD INSTALL methodical StartedAt: 2024-10-16 16:35:53 -0400 (Wed, 16 Oct 2024) EndedAt: 2024-10-16 16:36:41 -0400 (Wed, 16 Oct 2024) EllapsedTime: 47.1 seconds RetCode: 0 Status: OK