Package: methodical Version: 1.0.0 Command: /Library/Frameworks/R.framework/Resources/bin/R CMD build --keep-empty-dirs --no-resave-data methodical StartedAt: 2024-10-17 03:57:19 -0400 (Thu, 17 Oct 2024) EndedAt: 2024-10-17 04:15:43 -0400 (Thu, 17 Oct 2024) EllapsedTime: 1103.3 seconds RetCode: 1 Status: ERROR PackageFile: None PackageFileSize: NA