Package: methimpute Version: 1.26.0 Command: E:\biocbuild\bbs-3.19-bioc\R\bin\R.exe CMD INSTALL methimpute StartedAt: 2024-10-16 16:12:47 -0400 (Wed, 16 Oct 2024) EndedAt: 2024-10-16 16:13:44 -0400 (Wed, 16 Oct 2024) EllapsedTime: 56.7 seconds RetCode: 0 Status: OK