Package: methimpute Version: 1.26.0 Command: chmod a+r methimpute -R && F:\biocbuild\bbs-3.19-bioc\R\bin\R.exe CMD build --keep-empty-dirs --no-resave-data methimpute StartedAt: 2024-06-26 19:57:01 -0400 (Wed, 26 Jun 2024) EndedAt: 2024-06-26 19:59:52 -0400 (Wed, 26 Jun 2024) EllapsedTime: 170.8 seconds RetCode: 0 Status: OK PackageFile: methimpute_1.26.0.tar.gz PackageFileSize: 1.268 MiB