Package: methimpute Version: 1.26.0 Command: /home/biocbuild/bbs-3.19-bioc/R/bin/R CMD build --keep-empty-dirs --no-resave-data methimpute StartedAt: 2024-10-16 19:22:36 -0400 (Wed, 16 Oct 2024) EndedAt: 2024-10-16 19:24:29 -0400 (Wed, 16 Oct 2024) EllapsedTime: 113.2 seconds RetCode: 0 Status: OK PackageFile: methimpute_1.26.0.tar.gz PackageFileSize: 1.268 MiB