Package: methInheritSim Version: 1.26.0 Command: E:\biocbuild\bbs-3.19-bioc\R\bin\R.exe CMD INSTALL methInheritSim StartedAt: 2024-10-16 17:00:38 -0400 (Wed, 16 Oct 2024) EndedAt: 2024-10-16 17:01:36 -0400 (Wed, 16 Oct 2024) EllapsedTime: 57.3 seconds RetCode: 0 Status: OK