Package: methInheritSim Version: 1.26.0 Command: chmod a+r methInheritSim -R && E:\biocbuild\bbs-3.19-bioc\R\bin\R.exe CMD build --keep-empty-dirs --no-resave-data methInheritSim StartedAt: 2024-10-16 20:12:02 -0400 (Wed, 16 Oct 2024) EndedAt: 2024-10-16 20:13:31 -0400 (Wed, 16 Oct 2024) EllapsedTime: 89.2 seconds RetCode: 0 Status: OK PackageFile: methInheritSim_1.26.0.tar.gz PackageFileSize: 1.117 MiB