Package: methInheritSim Version: 1.26.0 Command: /Library/Frameworks/R.framework/Resources/bin/R CMD check --install=check:methInheritSim.install-out.txt --library=/Library/Frameworks/R.framework/Resources/library --no-vignettes --timings methInheritSim_1.26.0.tar.gz StartedAt: 2024-10-18 03:22:00 -0400 (Fri, 18 Oct 2024) EndedAt: 2024-10-18 03:27:59 -0400 (Fri, 18 Oct 2024) EllapsedTime: 358.9 seconds RetCode: 0 Status: OK CheckDir: methInheritSim.Rcheck Warnings: 0