Package: metaseqR2 Version: 1.16.0 Command: E:\biocbuild\bbs-3.19-bioc\R\bin\R.exe CMD INSTALL metaseqR2 StartedAt: 2024-10-16 17:22:31 -0400 (Wed, 16 Oct 2024) EndedAt: 2024-10-16 17:24:29 -0400 (Wed, 16 Oct 2024) EllapsedTime: 117.3 seconds RetCode: 0 Status: OK