Package: metaseqR2 Version: 1.16.0 Command: /home/biocbuild/bbs-3.19-bioc/R/bin/R CMD INSTALL metaseqR2 StartedAt: 2024-10-16 16:46:46 -0400 (Wed, 16 Oct 2024) EndedAt: 2024-10-16 16:47:57 -0400 (Wed, 16 Oct 2024) EllapsedTime: 71.0 seconds RetCode: 0 Status: OK