Package: metaseqR2 Version: 1.16.0 Command: /Library/Frameworks/R.framework/Resources/bin/R CMD build --keep-empty-dirs --no-resave-data metaseqR2 StartedAt: 2024-10-16 20:42:02 -0400 (Wed, 16 Oct 2024) EndedAt: 2024-10-16 21:07:35 -0400 (Wed, 16 Oct 2024) EllapsedTime: 1532.7 seconds RetCode: 0 Status: OK PackageFile: metaseqR2_1.16.0.tar.gz PackageFileSize: 2.655 MiB