Package: metaseqR2 Version: 1.16.0 Command: /Library/Frameworks/R.framework/Resources/bin/R CMD INSTALL metaseqR2 StartedAt: 2024-06-09 17:43:42 -0400 (Sun, 09 Jun 2024) EndedAt: 2024-06-09 17:45:18 -0400 (Sun, 09 Jun 2024) EllapsedTime: 95.5 seconds RetCode: 0 Status: OK