Package: metaseqR2 Version: 1.16.0 Command: /Library/Frameworks/R.framework/Resources/bin/R CMD INSTALL metaseqR2 StartedAt: 2024-10-16 18:57:50 -0400 (Wed, 16 Oct 2024) EndedAt: 2024-10-16 18:59:17 -0400 (Wed, 16 Oct 2024) EllapsedTime: 86.5 seconds RetCode: 0 Status: OK